BEGIN:VCALENDAR
VERSION:2.0
PRODID:-//Eventin//Event Calendar//EN
CALSCALE:GREGORIAN
METHOD:PUBLISH
BEGIN:VEVENT
UID:8acef45a8ffddb19230c039d0703a92f@chiropracticassistant.ca
SUMMARY:The Hidden Practice Killers: Systems\, Structure\, and Accountabili
 ty
DESCRIPTION:The Hidden Practice Killers: Systems\, Structure\, and Accounta
 bility\nDescription\nMany chiropractic practices rely on habits instead of 
 structured systems. Without clear procedures and accountability\, staff bec
 ome overwhelmed\, tasks are missed\, and the practice struggles to grow.\nT
 his webinar explores the essential systems that successful practices rely o
 n and how chiropractic teams can implement simple procedures that improve e
 fficiency\, reduce stress\, and strengthen teamwork.\nLearning Objectives\n
 Participants will learn:• Why lack of systems creates chaos in practices
 • How written procedures improve team performance• How to define staff 
 roles and responsibilities clearly• Simple accountability strategies that
  strengthen team productivity• Steps to begin creating effective office p
 rocedures\nAttendees Will Receive:• Practice systems checklist• Procedu
 re planning worksheet\n\n\nREGISTER FOR THIS EVENT\n\n\nREGISTER FOR ALL 4 
 EVENTS
LOCATION:Online
DTSTAMP:20260423T165115Z
DTSTART:20260525T040000Z
DTEND:20260525T043000Z
END:VEVENT
END:VCALENDAR
