BEGIN:VCALENDAR
VERSION:2.0
PRODID:-//Eventin//Event Calendar//EN
CALSCALE:GREGORIAN
METHOD:PUBLISH
BEGIN:VEVENT
UID:26e87b996c18f88a071855d1b8f751bc@chiropracticassistant.ca
SUMMARY:The Growth Mindset: Overcoming Fear\, Burnout\, and Resistance to C
 hange
DESCRIPTION:The Growth Mindset: Overcoming Fear\, Burnout\, and Resistance 
 to Change\nDescription\nGrowth requires change\, but many practices struggl
 e with fear\, burnout\, and resistance to new ideas. When teams become stuc
 k in old habits\, it prevents innovation and limits practice potential.\nTh
 is webinar explores how leadership mindset and team culture impact practice
  success and how practices can develop a positive environment that supports
  growth and improvement.\nLearning Objectives\nParticipants will learn:• 
 How mindset affects practice success• Signs of burnout within a practice 
 team• How resistance to change limits practice growth• Leadership strat
 egies that encourage team engagement• Practical steps to build a growth-f
 ocused culture\nAttendees Will Receive:• Practice growth self-assessment 
 tool• Team engagement worksheet\n\n\nREGISTER FOR THIS EVENT\n\n\nREGISTE
 R FOR ALL 4 EVENTS
LOCATION:Online
DTSTAMP:20260423T165120Z
DTSTART:20260727T160000Z
DTEND:20260727T163000Z
END:VEVENT
END:VCALENDAR
