BEGIN:VCALENDAR
VERSION:2.0
PRODID:-//Eventin//Event Calendar//EN
CALSCALE:GREGORIAN
METHOD:PUBLISH
BEGIN:VEVENT
UID:d1f7571cfc9213160caefb97bb26069a@chiropracticassistant.ca
SUMMARY:The Patient Experience Gap: Why Patients Don’t Return or Refer
DESCRIPTION:The Patient Experience Gap: Why Patients Don’t Return or Refe
 r\nDescription\nPatient experience plays a critical role in the long-term s
 uccess of a chiropractic practice. Small details such as first impressions\
 , follow-up processes\, and team interactions can determine whether patient
 s return or recommend the practice to others.\nThis webinar examines how pr
 actices can improve the patient journey and create experiences that encoura
 ge loyalty and referrals.\nLearning Objectives\nParticipants will learn:•
  Why patient experience impacts retention and referrals• The importance o
 f first impressions in healthcare practice• How small improvements create
  stronger patient relationships• How to implement consistent patient foll
 ow-up systems• Strategies for turning satisfied patients into advocates\n
 Attendees Will Receive:• Patient experience evaluation checklist• Pract
 ice improvement action plan\n\n\nREGISTER FOR THIS EVENT\n\n\nREGISTER FOR 
 ALL 4 EVENTS
LOCATION:Online
DTSTAMP:20260423T230229Z
DTSTART:20260824T160000Z
DTEND:20260824T163000Z
END:VEVENT
END:VCALENDAR
