BEGIN:VCALENDAR
VERSION:2.0
PRODID:-//Eventin//Event Calendar//EN
CALSCALE:GREGORIAN
METHOD:PUBLISH
BEGIN:VEVENT
UID:fc7a0a0fce1c79e9bf8fc5ff96159c72@chiropracticassistant.ca
SUMMARY:Appointment Booking Strategies
DESCRIPTION:REGISTER NOW
LOCATION:Online
DTSTAMP:20260423T230242Z
DTSTART:20240724T163000Z
DTEND:20260423T180000Z
END:VEVENT
END:VCALENDAR
