BEGIN:VCALENDAR
VERSION:2.0
PRODID:-//Eventin//Event Calendar//EN
CALSCALE:GREGORIAN
METHOD:PUBLISH
BEGIN:VEVENT
UID:e22814be5b0a78cfe01e32a9ab4f86f9@chiropracticassistant.ca
SUMMARY:WSIB Workshop
DESCRIPTION:REGISTER NOW
LOCATION:Online
DTSTAMP:20260423T230232Z
DTSTART:20240821T163000Z
DTEND:20260423T180000Z
END:VEVENT
END:VCALENDAR
