BEGIN:VCALENDAR
VERSION:2.0
PRODID:-//Eventin//Event Calendar//EN
CALSCALE:GREGORIAN
METHOD:PUBLISH
BEGIN:VEVENT
UID:2dbcaf8766c3987698a4775e362b2c4d@chiropracticassistant.ca
SUMMARY:Accounts Receivable Management
DESCRIPTION:REGISTER NOW
LOCATION:Online
DTSTAMP:20260423T152154Z
DTSTART:20240918T163000Z
DTEND:20260423T180000Z
END:VEVENT
END:VCALENDAR
