BEGIN:VCALENDAR
VERSION:2.0
PRODID:-//Eventin//Event Calendar//EN
CALSCALE:GREGORIAN
METHOD:PUBLISH
BEGIN:VEVENT
UID:bcf8b4afddfe3d1d84a5f61dc05c3d8c@chiropracticassistant.ca
SUMMARY:Patient Wants vs Needs
DESCRIPTION:REGISTER NOW
LOCATION:Online
DTSTAMP:20260423T230236Z
DTSTART:20241016T163000Z
DTEND:20260423T180000Z
END:VEVENT
END:VCALENDAR
