BEGIN:VCALENDAR
VERSION:2.0
PRODID:-//Eventin//Event Calendar//EN
CALSCALE:GREGORIAN
METHOD:PUBLISH
BEGIN:VEVENT
UID:64681dc02151d41927f9fbd32fd3979c@chiropracticassistant.ca
SUMMARY:MVA Training
DESCRIPTION:REGISTER NOW
LOCATION:Online
DTSTAMP:20260423T230235Z
DTSTART:20241113T173000Z
DTEND:20260423T180000Z
END:VEVENT
END:VCALENDAR
