BEGIN:VCALENDAR
VERSION:2.0
PRODID:-//Eventin//Event Calendar//EN
CALSCALE:GREGORIAN
METHOD:PUBLISH
BEGIN:VEVENT
UID:d5e552410f4a1f64d4ffe45da8e93a3c@chiropracticassistant.ca
SUMMARY:Pure &amp\; Powerful
DESCRIPTION:
LOCATION:Online
DTSTAMP:20260423T230236Z
DTSTART:20241102T163000Z
DTEND:20260423T180000Z
END:VEVENT
END:VCALENDAR
