BEGIN:VCALENDAR
VERSION:2.0
PRODID:-//Eventin//Event Calendar//EN
CALSCALE:GREGORIAN
METHOD:PUBLISH
BEGIN:VEVENT
UID:8e9fb70b66999dca68d7ccc65151b0f4@chiropracticassistant.ca
SUMMARY:Limit Cancelations\, No Shows &amp\; Discontinue Care Patients
DESCRIPTION:Register Now
LOCATION:Online
DTSTAMP:20260424T020548Z
DTSTART:20250430T163000Z
DTEND:20260423T173000Z
END:VEVENT
END:VCALENDAR
