BEGIN:VCALENDAR
VERSION:2.0
PRODID:-//Eventin//Event Calendar//EN
CALSCALE:GREGORIAN
METHOD:PUBLISH
BEGIN:VEVENT
UID:1979049f6fec9fa267a81e972264b302@chiropracticassistant.ca
SUMMARY:Recalls &amp\; Reactivating Inactive Patients
DESCRIPTION:Register Now
LOCATION:Online
DTSTAMP:20260424T020548Z
DTSTART:20250521T163000Z
DTEND:20260423T173000Z
END:VEVENT
END:VCALENDAR
